BEGIN:VCALENDAR
VERSION:2.0
PRODID:-//Beweegteam Súdwest Fryslân - ECPv6.15.20//NONSGML v1.0//EN
CALSCALE:GREGORIAN
METHOD:PUBLISH
X-ORIGINAL-URL:https://beweegteamsudwestfryslan.nl
X-WR-CALDESC:Evenementen voor Beweegteam Súdwest Fryslân
REFRESH-INTERVAL;VALUE=DURATION:PT1H
X-Robots-Tag:noindex
X-PUBLISHED-TTL:PT1H
BEGIN:VTIMEZONE
TZID:Europe/Amsterdam
BEGIN:DAYLIGHT
TZOFFSETFROM:+0100
TZOFFSETTO:+0200
TZNAME:CEST
DTSTART:20240331T010000
END:DAYLIGHT
BEGIN:STANDARD
TZOFFSETFROM:+0200
TZOFFSETTO:+0100
TZNAME:CET
DTSTART:20241027T010000
END:STANDARD
BEGIN:DAYLIGHT
TZOFFSETFROM:+0100
TZOFFSETTO:+0200
TZNAME:CEST
DTSTART:20250330T010000
END:DAYLIGHT
BEGIN:STANDARD
TZOFFSETFROM:+0200
TZOFFSETTO:+0100
TZNAME:CET
DTSTART:20251026T010000
END:STANDARD
BEGIN:DAYLIGHT
TZOFFSETFROM:+0100
TZOFFSETTO:+0200
TZNAME:CEST
DTSTART:20260329T010000
END:DAYLIGHT
BEGIN:STANDARD
TZOFFSETFROM:+0200
TZOFFSETTO:+0100
TZNAME:CET
DTSTART:20261025T010000
END:STANDARD
END:VTIMEZONE
BEGIN:VEVENT
DTSTART;TZID=Europe/Amsterdam:20250525T123000
DTEND;TZID=Europe/Amsterdam:20250525T160000
DTSTAMP:20260422T154037
CREATED:20250321T133755Z
LAST-MODIFIED:20250321T133942Z
UID:10734-1748176200-1748188800@beweegteamsudwestfryslan.nl
SUMMARY:4 Mijl Sneek (o.a. kidsrun)
DESCRIPTION:
URL:https://beweegteamsudwestfryslan.nl/activiteit/10734/
CATEGORIES:jongeren,kinderen,volwassenen,voor senioren
END:VEVENT
END:VCALENDAR